BEGIN:VCALENDAR
VERSION:2.0
PRODID:-//The Orchids Public School - ECPv6.9.1//NONSGML v1.0//EN
CALSCALE:GREGORIAN
METHOD:PUBLISH
X-ORIGINAL-URL:https://theorchidspublicschool.com
X-WR-CALDESC:Events for The Orchids Public School
REFRESH-INTERVAL;VALUE=DURATION:PT1H
X-Robots-Tag:noindex
X-PUBLISHED-TTL:PT1H
BEGIN:VTIMEZONE
TZID:Asia/Kolkata
BEGIN:STANDARD
TZOFFSETFROM:+0530
TZOFFSETTO:+0530
TZNAME:IST
DTSTART:20250101T000000
END:STANDARD
END:VTIMEZONE
BEGIN:VEVENT
DTSTART;VALUE=DATE:20260404
DTEND;VALUE=DATE:20260405
DTSTAMP:20260421T205622
CREATED:20250804T050205Z
LAST-MODIFIED:20250804T050205Z
UID:10000019-1775260800-1775347199@theorchidspublicschool.com
SUMMARY:Issue of Report Card Classes 1-9
DESCRIPTION:
URL:https://theorchidspublicschool.com/event/issue-of-report-card-classes-1-9/
LOCATION:The Orchids Public School\, Kumarabeedu\, Mysuru\, Mysuru\, Karnataka\, 570026\, India
END:VEVENT
BEGIN:VEVENT
DTSTART;VALUE=DATE:20260403
DTEND;VALUE=DATE:20260404
DTSTAMP:20260421T205622
CREATED:20250804T054917Z
LAST-MODIFIED:20250804T054917Z
UID:10000047-1775174400-1775260799@theorchidspublicschool.com
SUMMARY:Good Friday-Holiday
DESCRIPTION:
URL:https://theorchidspublicschool.com/event/good-friday-holiday/
LOCATION:The Orchids Public School\, Kumarabeedu\, Mysuru\, Mysuru\, Karnataka\, 570026\, India
END:VEVENT
BEGIN:VEVENT
DTSTART;VALUE=DATE:20260321
DTEND;VALUE=DATE:20260322
DTSTAMP:20260421T205622
CREATED:20250804T054836Z
LAST-MODIFIED:20250804T054836Z
UID:10000046-1774051200-1774137599@theorchidspublicschool.com
SUMMARY:Id-Ul-Fitr -Holiday
DESCRIPTION:
URL:https://theorchidspublicschool.com/event/id-ul-fitr-holiday/
LOCATION:The Orchids Public School\, Kumarabeedu\, Mysuru\, Mysuru\, Karnataka\, 570026\, India
END:VEVENT
BEGIN:VEVENT
DTSTART;VALUE=DATE:20260320
DTEND;VALUE=DATE:20260321
DTSTAMP:20260421T205622
CREATED:20250804T054509Z
LAST-MODIFIED:20250804T054509Z
UID:10000045-1773964800-1774051199@theorchidspublicschool.com
SUMMARY:Ugadi-Holiday
DESCRIPTION:
URL:https://theorchidspublicschool.com/event/ugadi-holiday/
LOCATION:The Orchids Public School\, Kumarabeedu\, Mysuru\, Mysuru\, Karnataka\, 570026\, India
END:VEVENT
BEGIN:VEVENT
DTSTART;TZID=Asia/Kolkata:20260309T093000
DTEND;TZID=Asia/Kolkata:20260318T130000
DTSTAMP:20260421T205622
CREATED:20250804T050050Z
LAST-MODIFIED:20250804T050050Z
UID:10000018-1773048600-1773838800@theorchidspublicschool.com
SUMMARY:Term End Examination Classes1-7
DESCRIPTION:
URL:https://theorchidspublicschool.com/event/term-end-examination-classes1-7/
LOCATION:The Orchids Public School\, Kumarabeedu\, Mysuru\, Mysuru\, Karnataka\, 570026\, India
END:VEVENT
BEGIN:VEVENT
DTSTART;VALUE=DATE:20260228
DTEND;VALUE=DATE:20260301
DTSTAMP:20260421T205622
CREATED:20250804T045659Z
LAST-MODIFIED:20250804T045659Z
UID:10000016-1772236800-1772323199@theorchidspublicschool.com
SUMMARY:National Science Day
DESCRIPTION:
URL:https://theorchidspublicschool.com/event/national-science-day/
LOCATION:The Orchids Public School\, Kumarabeedu\, Mysuru\, Mysuru\, Karnataka\, 570026\, India
END:VEVENT
BEGIN:VEVENT
DTSTART;VALUE=DATE:20260215
DTEND;VALUE=DATE:20260216
DTSTAMP:20260421T205622
CREATED:20250804T054423Z
LAST-MODIFIED:20250804T054700Z
UID:10000044-1771113600-1771199999@theorchidspublicschool.com
SUMMARY:Maha Shivaratri-Holiday
DESCRIPTION:
URL:https://theorchidspublicschool.com/event/maha-shivaratri/
LOCATION:The Orchids Public School\, Kumarabeedu\, Mysuru\, Mysuru\, Karnataka\, 570026\, India
END:VEVENT
BEGIN:VEVENT
DTSTART;VALUE=DATE:20260202
DTEND;VALUE=DATE:20260203
DTSTAMP:20260421T205622
CREATED:20250804T045838Z
LAST-MODIFIED:20250804T045838Z
UID:10000017-1769990400-1770076799@theorchidspublicschool.com
SUMMARY:Term End Examination - Class 9
DESCRIPTION:
URL:https://theorchidspublicschool.com/event/term-end-examination-class-9/
LOCATION:The Orchids Public School\, Kumarabeedu\, Mysuru\, Mysuru\, Karnataka\, 570026\, India
END:VEVENT
BEGIN:VEVENT
DTSTART;TZID=Asia/Kolkata:20260131T080000
DTEND;TZID=Asia/Kolkata:20260131T170000
DTSTAMP:20260421T205622
CREATED:20250804T045607Z
LAST-MODIFIED:20250804T045607Z
UID:10000015-1769846400-1769878800@theorchidspublicschool.com
SUMMARY:Parent Teacher Meeting Classes 1-8
DESCRIPTION:
URL:https://theorchidspublicschool.com/event/parent-teacher-meeting-classes-1-8/
LOCATION:The Orchids Public School\, Kumarabeedu\, Mysuru\, Mysuru\, Karnataka\, 570026\, India
END:VEVENT
BEGIN:VEVENT
DTSTART;VALUE=DATE:20260126
DTEND;VALUE=DATE:20260127
DTSTAMP:20260421T205622
CREATED:20250804T054319Z
LAST-MODIFIED:20250804T054319Z
UID:10000043-1769385600-1769471999@theorchidspublicschool.com
SUMMARY:Republic Day-Holiday
DESCRIPTION:
URL:https://theorchidspublicschool.com/event/republic-day-holiday/
LOCATION:The Orchids Public School\, Kumarabeedu\, Mysuru\, Mysuru\, Karnataka\, 570026\, India
END:VEVENT
BEGIN:VEVENT
DTSTART;VALUE=DATE:20260114
DTEND;VALUE=DATE:20260115
DTSTAMP:20260421T205622
CREATED:20250804T054229Z
LAST-MODIFIED:20250804T054229Z
UID:10000042-1768348800-1768435199@theorchidspublicschool.com
SUMMARY:Makara Sankranti-Holiday
DESCRIPTION:
URL:https://theorchidspublicschool.com/event/makara-sankranti-holiday/
LOCATION:The Orchids Public School\, Kumarabeedu\, Mysuru\, Mysuru\, Karnataka\, 570026\, India
END:VEVENT
BEGIN:VEVENT
DTSTART;TZID=Asia/Kolkata:20260113T103000
DTEND;TZID=Asia/Kolkata:20260113T130000
DTSTAMP:20260421T205622
CREATED:20260112T085731Z
LAST-MODIFIED:20260112T085749Z
UID:10000061-1768300200-1768309200@theorchidspublicschool.com
SUMMARY:Dream. Design. Discover – An ISRO Inspiration
DESCRIPTION:The Orchids Public School and PU College\, Kumarabeedu\, Mysuru\, is proud to host an inspiring guest lecture by Dr. T. N. Suresh Kumar\, Ashoka Awardee and Senior Space Scientist at ISRO.This session aims to ignite curiosity\, innovation\, and scientific thinking among students by sharing real-world experiences from India’s space research journey.An enriching opportunity for young minds to dream big\, design boldly\, and discover the wonders of space science.
URL:https://theorchidspublicschool.com/event/dream-design-discover-an-isro-inspiration/
LOCATION:The Orchids Public School\, Kumarabeedu\, Mysuru\, Mysuru\, Karnataka\, 570026\, India
END:VEVENT
BEGIN:VEVENT
DTSTART;VALUE=DATE:20260101
DTEND;VALUE=DATE:20260102
DTSTAMP:20260421T205622
CREATED:20250804T054138Z
LAST-MODIFIED:20250804T054138Z
UID:10000041-1767225600-1767311999@theorchidspublicschool.com
SUMMARY:New Year-Holiday
DESCRIPTION:
URL:https://theorchidspublicschool.com/event/new-year-holiday/
LOCATION:The Orchids Public School\, Kumarabeedu\, Mysuru\, Mysuru\, Karnataka\, 570026\, India
END:VEVENT
BEGIN:VEVENT
DTSTART;VALUE=DATE:20251225
DTEND;VALUE=DATE:20251226
DTSTAMP:20260421T205622
CREATED:20250804T054052Z
LAST-MODIFIED:20250804T054052Z
UID:10000040-1766620800-1766707199@theorchidspublicschool.com
SUMMARY:Christmas-Holiday
DESCRIPTION:
URL:https://theorchidspublicschool.com/event/christmas-holiday/
LOCATION:The Orchids Public School\, Kumarabeedu\, Mysuru\, Mysuru\, Karnataka\, 570026\, India
END:VEVENT
BEGIN:VEVENT
DTSTART;VALUE=DATE:20251222
DTEND;VALUE=DATE:20251223
DTSTAMP:20260421T205622
CREATED:20250804T045225Z
LAST-MODIFIED:20250804T045225Z
UID:10000012-1766361600-1766447999@theorchidspublicschool.com
SUMMARY:Grade - 10 Pre-Board Examination -II
DESCRIPTION:
URL:https://theorchidspublicschool.com/event/grade-10-pre-board-examination-ii/
LOCATION:The Orchids Public School\, Kumarabeedu\, Mysuru\, Mysuru\, Karnataka\, 570026\, India
END:VEVENT
BEGIN:VEVENT
DTSTART;VALUE=DATE:20251202
DTEND;VALUE=DATE:20251203
DTSTAMP:20260421T205622
CREATED:20250804T045137Z
LAST-MODIFIED:20250804T045137Z
UID:10000011-1764633600-1764719999@theorchidspublicschool.com
SUMMARY:Grade - 10 Pre-Board Examination -I
DESCRIPTION:
URL:https://theorchidspublicschool.com/event/grade-10-pre-board-examination-i/
LOCATION:The Orchids Public School\, Kumarabeedu\, Mysuru\, Mysuru\, Karnataka\, 570026\, India
END:VEVENT
BEGIN:VEVENT
DTSTART;TZID=Asia/Kolkata:20251128T110000
DTEND;TZID=Asia/Kolkata:20251128T220000
DTSTAMP:20260421T205622
CREATED:20251117T043821Z
LAST-MODIFIED:20251117T043821Z
UID:10000060-1764327600-1764367200@theorchidspublicschool.com
SUMMARY:ORCHIDALIA CHAPTER 1
DESCRIPTION:
URL:https://theorchidspublicschool.com/event/orchidalia-chapter-1/
LOCATION:The Orchids Public School\, Kumarabeedu\, Mysuru\, Mysuru\, Karnataka\, 570026\, India
END:VEVENT
BEGIN:VEVENT
DTSTART;VALUE=DATE:20251112
DTEND;VALUE=DATE:20251113
DTSTAMP:20260421T205622
CREATED:20250804T045436Z
LAST-MODIFIED:20250804T045436Z
UID:10000014-1762905600-1762991999@theorchidspublicschool.com
SUMMARY:PA - 4 for Classes 1-8
DESCRIPTION:
URL:https://theorchidspublicschool.com/event/pa-4-for-classes-1-8/
LOCATION:The Orchids Public School\, Kumarabeedu\, Mysuru\, Mysuru\, Karnataka\, 570026\, India
END:VEVENT
BEGIN:VEVENT
DTSTART;VALUE=DATE:20251112
DTEND;VALUE=DATE:20251113
DTSTAMP:20260421T205622
CREATED:20250804T045301Z
LAST-MODIFIED:20250804T045301Z
UID:10000013-1762905600-1762991999@theorchidspublicschool.com
SUMMARY:Grade - 10 Pre-Board Examination -III
DESCRIPTION:
URL:https://theorchidspublicschool.com/event/grade-10-pre-board-examination-iii/
LOCATION:The Orchids Public School\, Kumarabeedu\, Mysuru\, Mysuru\, Karnataka\, 570026\, India
END:VEVENT
BEGIN:VEVENT
DTSTART;VALUE=DATE:20251108
DTEND;VALUE=DATE:20251109
DTSTAMP:20260421T205622
CREATED:20250804T054007Z
LAST-MODIFIED:20250804T054007Z
UID:10000039-1762560000-1762646399@theorchidspublicschool.com
SUMMARY:Kanakadasa Jayanti-Holiday
DESCRIPTION:
URL:https://theorchidspublicschool.com/event/kanakadasa-jayanti-holiday/
LOCATION:The Orchids Public School\, Kumarabeedu\, Mysuru\, Mysuru\, Karnataka\, 570026\, India
END:VEVENT
BEGIN:VEVENT
DTSTART;VALUE=DATE:20251103
DTEND;VALUE=DATE:20251108
DTSTAMP:20260421T205622
CREATED:20250804T044919Z
LAST-MODIFIED:20250804T044919Z
UID:10000009-1762128000-1762559999@theorchidspublicschool.com
SUMMARY:PA-3 for Classes 1-10
DESCRIPTION:
URL:https://theorchidspublicschool.com/event/pa-3-for-classes-1-10/
LOCATION:The Orchids Public School\, Kumarabeedu\, Mysuru\, Mysuru\, Karnataka\, 570026\, India
END:VEVENT
BEGIN:VEVENT
DTSTART;VALUE=DATE:20251101
DTEND;VALUE=DATE:20251102
DTSTAMP:20260421T205622
CREATED:20250804T053908Z
LAST-MODIFIED:20250804T053908Z
UID:10000038-1761955200-1762041599@theorchidspublicschool.com
SUMMARY:Kannada Rajyothsava-Holiday
DESCRIPTION:
URL:https://theorchidspublicschool.com/event/kannada-rajyothsava-holiday/
LOCATION:The Orchids Public School\, Kumarabeedu\, Mysuru\, Mysuru\, Karnataka\, 570026\, India
END:VEVENT
BEGIN:VEVENT
DTSTART;VALUE=DATE:20251023
DTEND;VALUE=DATE:20251025
DTSTAMP:20260421T205622
CREATED:20250804T044813Z
LAST-MODIFIED:20250804T083355Z
UID:10000008-1761177600-1761350399@theorchidspublicschool.com
SUMMARY:Sports Day
DESCRIPTION:
URL:https://theorchidspublicschool.com/event/sports-day/
LOCATION:The Orchids Public School\, Kumarabeedu\, Mysuru\, Mysuru\, Karnataka\, 570026\, India
END:VEVENT
BEGIN:VEVENT
DTSTART;VALUE=DATE:20251022
DTEND;VALUE=DATE:20251023
DTSTAMP:20260421T205622
CREATED:20250804T053733Z
LAST-MODIFIED:20250804T053733Z
UID:10000037-1761091200-1761177599@theorchidspublicschool.com
SUMMARY:Deepavali-Holiday
DESCRIPTION:
URL:https://theorchidspublicschool.com/event/deepavali-holiday/
LOCATION:The Orchids Public School\, Kumarabeedu\, Mysuru\, Mysuru\, Karnataka\, 570026\, India
END:VEVENT
BEGIN:VEVENT
DTSTART;VALUE=DATE:20251021
DTEND;VALUE=DATE:20251022
DTSTAMP:20260421T205622
CREATED:20250804T053646Z
LAST-MODIFIED:20250804T053646Z
UID:10000036-1761004800-1761091199@theorchidspublicschool.com
SUMMARY:Balipadyami-Holiday
DESCRIPTION:
URL:https://theorchidspublicschool.com/event/balipadyami-holiday/
LOCATION:The Orchids Public School\, Kumarabeedu\, Mysuru\, Mysuru\, Karnataka\, 570026\, India
END:VEVENT
BEGIN:VEVENT
DTSTART;VALUE=DATE:20251020
DTEND;VALUE=DATE:20251021
DTSTAMP:20260421T205622
CREATED:20250804T053555Z
LAST-MODIFIED:20250804T053555Z
UID:10000035-1760918400-1761004799@theorchidspublicschool.com
SUMMARY:Dhana Lakshmi Pooja-Holiday
DESCRIPTION:
URL:https://theorchidspublicschool.com/event/dhana-lakshmi-pooja-holiday/
LOCATION:The Orchids Public School\, Kumarabeedu\, Mysuru\, Mysuru\, Karnataka\, 570026\, India
END:VEVENT
BEGIN:VEVENT
DTSTART;VALUE=DATE:20251007
DTEND;VALUE=DATE:20251008
DTSTAMP:20260421T205622
CREATED:20250804T053235Z
LAST-MODIFIED:20250804T053256Z
UID:10000034-1759795200-1759881599@theorchidspublicschool.com
SUMMARY:Maharshi Valmiki Jayanti -Holiday
DESCRIPTION:
URL:https://theorchidspublicschool.com/event/maharshi-valmiki-jayanti-holiday/
LOCATION:The Orchids Public School\, Kumarabeedu\, Mysuru\, Mysuru\, Karnataka\, 570026\, India
END:VEVENT
BEGIN:VEVENT
DTSTART;VALUE=DATE:20250921
DTEND;VALUE=DATE:20251004
DTSTAMP:20260421T205622
CREATED:20250804T044730Z
LAST-MODIFIED:20250804T050504Z
UID:10000007-1758412800-1759535999@theorchidspublicschool.com
SUMMARY:Dasara Holidays
DESCRIPTION:
URL:https://theorchidspublicschool.com/event/dasara-holidays/
LOCATION:The Orchids Public School\, Kumarabeedu\, Mysuru\, Mysuru\, Karnataka\, 570026\, India
END:VEVENT
BEGIN:VEVENT
DTSTART;TZID=Asia/Kolkata:20250920T093000
DTEND;TZID=Asia/Kolkata:20250920T130000
DTSTAMP:20260421T205622
CREATED:20250804T044640Z
LAST-MODIFIED:20250804T044640Z
UID:10000006-1758360600-1758373200@theorchidspublicschool.com
SUMMARY:Parent Teacher Meeting
DESCRIPTION:
URL:https://theorchidspublicschool.com/event/parent-teacher-meeting/
LOCATION:The Orchids Public School\, Kumarabeedu\, Mysuru\, Mysuru\, Karnataka\, 570026\, India
END:VEVENT
BEGIN:VEVENT
DTSTART;TZID=Asia/Kolkata:20250908T090000
DTEND;TZID=Asia/Kolkata:20250916T130000
DTSTAMP:20260421T205622
CREATED:20250802T062734Z
LAST-MODIFIED:20250802T062734Z
UID:10000005-1757322000-1758027600@theorchidspublicschool.com
SUMMARY:Term-1 Examination
DESCRIPTION:
URL:https://theorchidspublicschool.com/event/term-1-examination/
LOCATION:The Orchids Public School\, Kumarabeedu\, Mysuru\, Mysuru\, Karnataka\, 570026\, India
END:VEVENT
END:VCALENDAR