BEGIN:VCALENDAR
VERSION:2.0
PRODID:-//The Orchids Public School - ECPv6.9.1//NONSGML v1.0//EN
CALSCALE:GREGORIAN
METHOD:PUBLISH
X-ORIGINAL-URL:https://theorchidspublicschool.com
X-WR-CALDESC:Events for The Orchids Public School
REFRESH-INTERVAL;VALUE=DURATION:PT1H
X-Robots-Tag:noindex
X-PUBLISHED-TTL:PT1H
BEGIN:VTIMEZONE
TZID:Asia/Kolkata
BEGIN:STANDARD
TZOFFSETFROM:+0530
TZOFFSETTO:+0530
TZNAME:IST
DTSTART:20250101T000000
END:STANDARD
END:VTIMEZONE
BEGIN:VEVENT
DTSTART;VALUE=DATE:20250818
DTEND;VALUE=DATE:20250819
DTSTAMP:20260422T015715
CREATED:20250804T094958Z
LAST-MODIFIED:20250804T094958Z
UID:10000055-1755475200-1755561599@theorchidspublicschool.com
SUMMARY:Grade 5 Celebration Week Patriotic Songs
DESCRIPTION:
URL:https://theorchidspublicschool.com/event/grade-5-celebration-week-patriotic-songs/
LOCATION:The Orchids Public School\, Kumarabeedu\, Mysuru\, Mysuru\, Karnataka\, 570026\, India
END:VEVENT
BEGIN:VEVENT
DTSTART;TZID=Asia/Kolkata:20250815T090000
DTEND;TZID=Asia/Kolkata:20250815T123000
DTSTAMP:20260422T015715
CREATED:20250802T062317Z
LAST-MODIFIED:20250802T062317Z
UID:10000004-1755248400-1755261000@theorchidspublicschool.com
SUMMARY:Independence Day
DESCRIPTION:
URL:https://theorchidspublicschool.com/event/independence-day/
LOCATION:Auditorium\, Bogadi\, Mysore\, Karnataka\, 570026\, India
END:VEVENT
BEGIN:VEVENT
DTSTART;VALUE=DATE:20250808
DTEND;VALUE=DATE:20250809
DTSTAMP:20260422T015715
CREATED:20250804T052647Z
LAST-MODIFIED:20250804T052647Z
UID:10000029-1754611200-1754697599@theorchidspublicschool.com
SUMMARY:Varamahalakshmi-Holiday
DESCRIPTION:
URL:https://theorchidspublicschool.com/event/varamahalakshmi-holiday/
LOCATION:The Orchids Public School\, Kumarabeedu\, Mysuru\, Mysuru\, Karnataka\, 570026\, India
END:VEVENT
BEGIN:VEVENT
DTSTART;VALUE=DATE:20250806
DTEND;VALUE=DATE:20250807
DTSTAMP:20260422T015715
CREATED:20250804T095837Z
LAST-MODIFIED:20250804T095837Z
UID:10000056-1754438400-1754524799@theorchidspublicschool.com
SUMMARY:FIELD TRIP GRADE 3
DESCRIPTION:PLANET EARTH AQUARIUM AND PETS PARK
URL:https://theorchidspublicschool.com/event/field-trip-grade-3/
LOCATION:Mysore\, Mysuru\, Mysuru\, Karnataka\, 570026\, India
END:VEVENT
BEGIN:VEVENT
DTSTART;VALUE=DATE:20250731
DTEND;VALUE=DATE:20250801
DTSTAMP:20260422T015715
CREATED:20250804T100257Z
LAST-MODIFIED:20250804T100257Z
UID:10000059-1753920000-1754006399@theorchidspublicschool.com
SUMMARY:FIELD TRIP GRADE 5
DESCRIPTION:REGIONAL MUSEUMOF NATURAL HISTORY
URL:https://theorchidspublicschool.com/event/field-trip-grade-5/
LOCATION:Mysore\, Mysuru\, Mysuru\, Karnataka\, 570026\, India
END:VEVENT
BEGIN:VEVENT
DTSTART;TZID=Asia/Kolkata:20250728T093000
DTEND;TZID=Asia/Kolkata:20250728T223000
DTSTAMP:20260422T015715
CREATED:20250804T052325Z
LAST-MODIFIED:20250804T052325Z
UID:10000027-1753695000-1753741800@theorchidspublicschool.com
SUMMARY:PA -2 Classes 1-10
DESCRIPTION:
URL:https://theorchidspublicschool.com/event/pa-2-classes-1-10/
LOCATION:The Orchids Public School\, Kumarabeedu\, Mysuru\, Mysuru\, Karnataka\, 570026\, India
END:VEVENT
BEGIN:VEVENT
DTSTART;VALUE=DATE:20250725
DTEND;VALUE=DATE:20250726
DTSTAMP:20260422T015715
CREATED:20250804T100001Z
LAST-MODIFIED:20250804T100001Z
UID:10000057-1753401600-1753487999@theorchidspublicschool.com
SUMMARY:FIELD TRIP GRADE 4
DESCRIPTION:FARM VISIT
URL:https://theorchidspublicschool.com/event/field-trip-grade-4/
LOCATION:Mysore\, Mysuru\, Mysuru\, Karnataka\, 570026\, India
END:VEVENT
BEGIN:VEVENT
DTSTART;TZID=Asia/Kolkata:20250707T093000
DTEND;TZID=Asia/Kolkata:20250707T123000
DTSTAMP:20260422T015715
CREATED:20250804T052223Z
LAST-MODIFIED:20250804T052223Z
UID:10000026-1751880600-1751891400@theorchidspublicschool.com
SUMMARY:Parent Teacher Meeting
DESCRIPTION:
URL:https://theorchidspublicschool.com/event/parent-teacher-meeting-2/
LOCATION:The Orchids Public School\, Kumarabeedu\, Mysuru\, Mysuru\, Karnataka\, 570026\, India
END:VEVENT
BEGIN:VEVENT
DTSTART;VALUE=DATE:20250701
DTEND;VALUE=DATE:20250702
DTSTAMP:20260422T015715
CREATED:20250804T100137Z
LAST-MODIFIED:20250804T100137Z
UID:10000058-1751328000-1751414399@theorchidspublicschool.com
SUMMARY:FILED TRIP GRADE 4
DESCRIPTION:HORSE RIDING STABLE
URL:https://theorchidspublicschool.com/event/filed-trip-grade-4/
LOCATION:Mysore\, Mysuru\, Mysuru\, Karnataka\, 570026\, India
END:VEVENT
BEGIN:VEVENT
DTSTART;TZID=Asia/Kolkata:20250623T093000
DTEND;TZID=Asia/Kolkata:20250623T103000
DTSTAMP:20260422T015715
CREATED:20250804T052117Z
LAST-MODIFIED:20250804T052117Z
UID:10000025-1750671000-1750674600@theorchidspublicschool.com
SUMMARY:PA-1 for Classes 1-10
DESCRIPTION:
URL:https://theorchidspublicschool.com/event/pa-1-for-classes-1-10/
LOCATION:The Orchids Public School\, Kumarabeedu\, Mysuru\, Mysuru\, Karnataka\, 570026\, India
END:VEVENT
BEGIN:VEVENT
DTSTART;VALUE=DATE:20250621
DTEND;VALUE=DATE:20250622
DTSTAMP:20260422T015715
CREATED:20250804T051915Z
LAST-MODIFIED:20250804T051915Z
UID:10000024-1750464000-1750550399@theorchidspublicschool.com
SUMMARY:International Yoga Day
DESCRIPTION:
URL:https://theorchidspublicschool.com/event/international-yoga-day/
LOCATION:The Orchids Public School\, Kumarabeedu\, Mysuru\, Mysuru\, Karnataka\, 570026\, India
END:VEVENT
BEGIN:VEVENT
DTSTART;VALUE=DATE:20250617
DTEND;VALUE=DATE:20250618
DTSTAMP:20260422T015715
CREATED:20250804T052443Z
LAST-MODIFIED:20250804T052443Z
UID:10000028-1750118400-1750204799@theorchidspublicschool.com
SUMMARY:Bakrid
DESCRIPTION:
URL:https://theorchidspublicschool.com/event/bakrid/
LOCATION:The Orchids Public School\, Kumarabeedu\, Mysuru\, Mysuru\, Karnataka\, 570026\, India
END:VEVENT
BEGIN:VEVENT
DTSTART;VALUE=DATE:20250606
DTEND;VALUE=DATE:20250607
DTSTAMP:20260422T015715
CREATED:20250804T051549Z
LAST-MODIFIED:20250804T051549Z
UID:10000023-1749168000-1749254399@theorchidspublicschool.com
SUMMARY:School Election
DESCRIPTION:
URL:https://theorchidspublicschool.com/event/school-election/
LOCATION:The Orchids Public School\, Kumarabeedu\, Mysuru\, Mysuru\, Karnataka\, 570026\, India
END:VEVENT
BEGIN:VEVENT
DTSTART;VALUE=DATE:20250602
DTEND;VALUE=DATE:20250603
DTSTAMP:20260422T015715
CREATED:20250804T051133Z
LAST-MODIFIED:20250804T051133Z
UID:10000022-1748822400-1748908799@theorchidspublicschool.com
SUMMARY:Reopening for Pre-KG\, LKG &UKG
DESCRIPTION:
URL:https://theorchidspublicschool.com/event/reopening-for-pre-kg-lkg-ukg/
LOCATION:The Orchids Public School\, Kumarabeedu\, Mysuru\, Mysuru\, Karnataka\, 570026\, India
END:VEVENT
BEGIN:VEVENT
DTSTART;VALUE=DATE:20250519
DTEND;VALUE=DATE:20250520
DTSTAMP:20260422T015715
CREATED:20250804T050922Z
LAST-MODIFIED:20250804T050922Z
UID:10000021-1747612800-1747699199@theorchidspublicschool.com
SUMMARY:Reopening for Classes 1-9
DESCRIPTION:
URL:https://theorchidspublicschool.com/event/reopening-for-classes-1-9/
LOCATION:The Orchids Public School\, Kumarabeedu\, Mysuru\, Mysuru\, Karnataka\, 570026\, India
END:VEVENT
BEGIN:VEVENT
DTSTART;VALUE=DATE:20250512
DTEND;VALUE=DATE:20250513
DTSTAMP:20260422T015715
CREATED:20250804T050744Z
LAST-MODIFIED:20250804T050744Z
UID:10000020-1747008000-1747094399@theorchidspublicschool.com
SUMMARY:Reopening for Teachers and Class X
DESCRIPTION:
URL:https://theorchidspublicschool.com/event/reopening-for-teachers-and-class-x/
LOCATION:The Orchids Public School\, Kumarabeedu\, Mysuru\, Mysuru\, Karnataka\, 570026\, India
END:VEVENT
END:VCALENDAR