BEGIN:VCALENDAR
VERSION:2.0
PRODID:-//The Orchids Public School - ECPv6.9.1//NONSGML v1.0//EN
CALSCALE:GREGORIAN
METHOD:PUBLISH
X-ORIGINAL-URL:https://theorchidspublicschool.com
X-WR-CALDESC:Events for The Orchids Public School
REFRESH-INTERVAL;VALUE=DURATION:PT1H
X-Robots-Tag:noindex
X-PUBLISHED-TTL:PT1H
BEGIN:VTIMEZONE
TZID:Asia/Kolkata
BEGIN:STANDARD
TZOFFSETFROM:+0530
TZOFFSETTO:+0530
TZNAME:IST
DTSTART:20250101T000000
END:STANDARD
END:VTIMEZONE
BEGIN:VEVENT
DTSTART;VALUE=DATE:20250606
DTEND;VALUE=DATE:20250607
DTSTAMP:20260422T033210
CREATED:20250804T051549Z
LAST-MODIFIED:20250804T051549Z
UID:10000023-1749168000-1749254399@theorchidspublicschool.com
SUMMARY:School Election
DESCRIPTION:
URL:https://theorchidspublicschool.com/event/school-election/
LOCATION:The Orchids Public School\, Kumarabeedu\, Mysuru\, Mysuru\, Karnataka\, 570026\, India
END:VEVENT
BEGIN:VEVENT
DTSTART;VALUE=DATE:20250602
DTEND;VALUE=DATE:20250603
DTSTAMP:20260422T033210
CREATED:20250804T051133Z
LAST-MODIFIED:20250804T051133Z
UID:10000022-1748822400-1748908799@theorchidspublicschool.com
SUMMARY:Reopening for Pre-KG\, LKG &UKG
DESCRIPTION:
URL:https://theorchidspublicschool.com/event/reopening-for-pre-kg-lkg-ukg/
LOCATION:The Orchids Public School\, Kumarabeedu\, Mysuru\, Mysuru\, Karnataka\, 570026\, India
END:VEVENT
BEGIN:VEVENT
DTSTART;VALUE=DATE:20250519
DTEND;VALUE=DATE:20250520
DTSTAMP:20260422T033210
CREATED:20250804T050922Z
LAST-MODIFIED:20250804T050922Z
UID:10000021-1747612800-1747699199@theorchidspublicschool.com
SUMMARY:Reopening for Classes 1-9
DESCRIPTION:
URL:https://theorchidspublicschool.com/event/reopening-for-classes-1-9/
LOCATION:The Orchids Public School\, Kumarabeedu\, Mysuru\, Mysuru\, Karnataka\, 570026\, India
END:VEVENT
BEGIN:VEVENT
DTSTART;VALUE=DATE:20250512
DTEND;VALUE=DATE:20250513
DTSTAMP:20260422T033210
CREATED:20250804T050744Z
LAST-MODIFIED:20250804T050744Z
UID:10000020-1747008000-1747094399@theorchidspublicschool.com
SUMMARY:Reopening for Teachers and Class X
DESCRIPTION:
URL:https://theorchidspublicschool.com/event/reopening-for-teachers-and-class-x/
LOCATION:The Orchids Public School\, Kumarabeedu\, Mysuru\, Mysuru\, Karnataka\, 570026\, India
END:VEVENT
END:VCALENDAR